BEGIN:VCALENDAR
VERSION:2.0
PRODID:icalendar-ruby
CALSCALE:GREGORIAN
BEGIN:VEVENT
DTSTAMP:20260423T011944Z
UID:5a317971-e2f5-4b71-8966-059c293df043
DTSTART;VALUE=DATE:20201022
DESCRIPTION:Property ID# 491460\, Locatoin: Ray White Johnsonville\, Time: 
 1:00PM
SUMMARY:Auction for 
END:VEVENT
END:VCALENDAR
