BEGIN:VCALENDAR
VERSION:2.0
PRODID:icalendar-ruby
CALSCALE:GREGORIAN
BEGIN:VEVENT
DTSTAMP:20260424T075703Z
UID:1d63cd59-a376-4ed0-89c5-bb7b70601590
DTSTART;VALUE=DATE:20201203
DESCRIPTION:Property ID# 495094\, Time: 2:00PM
SUMMARY:Auction for 
END:VEVENT
END:VCALENDAR
