BEGIN:VCALENDAR
VERSION:2.0
PRODID:icalendar-ruby
CALSCALE:GREGORIAN
BEGIN:VEVENT
DTSTAMP:20260422T040302Z
UID:23dd638d-6250-47e3-8e6e-e0090ca12674
DTSTART;VALUE=DATE:20210223
DESCRIPTION:Property ID# 501244\, Locatoin: WELLINGON\, Time: 12:00PM
SUMMARY:Auction for 
END:VEVENT
END:VCALENDAR
