BEGIN:VCALENDAR
VERSION:2.0
PRODID:icalendar-ruby
CALSCALE:GREGORIAN
BEGIN:VEVENT
DTSTAMP:20260424T071038Z
UID:42e5029f-ef32-4e3e-8ff2-9e2523cd8e47
DTSTART;VALUE=DATE:20210325
DESCRIPTION:Property ID# 504367\, Locatoin: Level 1\, 77 Thorndon Quay\, Pi
 pitea\, Wellington \, Time: 1:00PM
SUMMARY:Auction for 
END:VEVENT
END:VCALENDAR
