BEGIN:VCALENDAR
VERSION:2.0
PRODID:icalendar-ruby
CALSCALE:GREGORIAN
BEGIN:VEVENT
DTSTAMP:20260424T081301Z
UID:8e57694e-3adf-4e66-a425-89467b4e9d94
DTSTART;VALUE=DATE:20210510
DESCRIPTION:Property ID# 508218\, Locatoin: WELLINGTON\, Time: 3:00PM
SUMMARY:Auction for 
END:VEVENT
END:VCALENDAR
