BEGIN:VCALENDAR
VERSION:2.0
PRODID:icalendar-ruby
CALSCALE:GREGORIAN
BEGIN:VEVENT
DTSTAMP:20260422T034023Z
UID:e3085189-95cb-4347-acc7-8b864163da85
DTSTART;VALUE=DATE:20210525
DESCRIPTION:Property ID# 509287\, Locatoin: WELLINGTON\, Time: 12:00PM
SUMMARY:Auction for 
END:VEVENT
END:VCALENDAR
