BEGIN:VCALENDAR
VERSION:2.0
PRODID:icalendar-ruby
CALSCALE:GREGORIAN
BEGIN:VEVENT
DTSTAMP:20260422T034208Z
UID:c5cbc3d3-37af-485d-991f-c806684e3486
DTSTART;VALUE=DATE:20211019
DESCRIPTION:Property ID# 517966\, Locatoin: WELLINGTON\, Time: 12:00PM
SUMMARY:Auction for 
END:VEVENT
END:VCALENDAR
