BEGIN:VCALENDAR
VERSION:2.0
PRODID:icalendar-ruby
CALSCALE:GREGORIAN
BEGIN:VEVENT
DTSTAMP:20260423T083202Z
UID:c2601eb0-7ddb-4201-933e-2db3fd5822db
DTSTART;VALUE=DATE:20211202
DESCRIPTION:Property ID# 522951\, Locatoin: Ray White Johnsonville\, 20 Moo
 refield Road\, Time: 1:00PM
SUMMARY:Auction for 
END:VEVENT
END:VCALENDAR
