BEGIN:VCALENDAR
VERSION:2.0
PRODID:icalendar-ruby
CALSCALE:GREGORIAN
BEGIN:VEVENT
DTSTAMP:20260424T012251Z
UID:34da04c6-2475-4e7b-b4f3-c782bc757a3b
DTSTART;VALUE=DATE:20211223
DESCRIPTION:Property ID# 524989\, Locatoin: Harcourts Wellington City Offic
 e (unless sold prior)\, Time: 2:00PM
SUMMARY:Auction for 
END:VEVENT
END:VCALENDAR
