BEGIN:VCALENDAR
VERSION:2.0
PRODID:icalendar-ruby
CALSCALE:GREGORIAN
BEGIN:VEVENT
DTSTAMP:20260422T040042Z
UID:731f7dd5-00d7-458e-96d1-b2be06d53d48
DTSTART;VALUE=DATE:20220412
DESCRIPTION:Property ID# 532425\, Locatoin: WELLINGTON\, Time: 12:00PM
SUMMARY:Auction for 
END:VEVENT
END:VCALENDAR
