BEGIN:VCALENDAR
VERSION:2.0
PRODID:icalendar-ruby
CALSCALE:GREGORIAN
BEGIN:VEVENT
DTSTAMP:20260422T033235Z
UID:bb8e771b-dbe7-420c-ae7d-b2b3cd1b56c7
DTSTART;VALUE=DATE:20230214
DESCRIPTION:Property ID# 550449\, Locatoin: WELLINGTON\, Time: 12:00PM
SUMMARY:Auction for 
END:VEVENT
END:VCALENDAR
