BEGIN:VCALENDAR
VERSION:2.0
PRODID:icalendar-ruby
CALSCALE:GREGORIAN
BEGIN:VEVENT
DTSTAMP:20260421T085602Z
UID:35951c18-6be8-441c-9b8b-7b13eee957ad
DTSTART;VALUE=DATE:20231213
DESCRIPTION:Property ID# 566532\, Locatoin: Ray White Karori \, Time: 2:00P
 M
SUMMARY:Auction for 
END:VEVENT
END:VCALENDAR
