BEGIN:VCALENDAR
VERSION:2.0
PRODID:icalendar-ruby
CALSCALE:GREGORIAN
BEGIN:VEVENT
DTSTAMP:20260423T175153Z
UID:ec631459-cf00-4996-8d46-5756fb69b8e0
DTSTART;VALUE=DATE:20240220
DESCRIPTION:Property ID# 569452\, Time: 12:00PM
SUMMARY:Auction for 
END:VEVENT
END:VCALENDAR
