BEGIN:VCALENDAR
VERSION:2.0
PRODID:icalendar-ruby
CALSCALE:GREGORIAN
BEGIN:VEVENT
DTSTAMP:20260422T034233Z
UID:2c38628b-cfcb-4721-a55e-a7e8a0a94048
DTSTART;VALUE=DATE:20240313
DESCRIPTION:Property ID# 570397\, Locatoin: In Rooms \, Time: 1:00PM
SUMMARY:Auction for 
END:VEVENT
END:VCALENDAR
