BEGIN:VCALENDAR
VERSION:2.0
PRODID:icalendar-ruby
CALSCALE:GREGORIAN
BEGIN:VEVENT
DTSTAMP:20260424T075702Z
UID:def315fe-ecbe-4f14-a3b8-90a55b0c7c03
DTSTART;VALUE=DATE:20250502
DESCRIPTION:Property ID# 591600\, Locatoin: Harcourts Wellington City Offic
 e at 57 Vivian Street\, Te Aro\, Wellington 6011\, Time: 12:00PM
SUMMARY:Auction for 
END:VEVENT
END:VCALENDAR
